BEGIN:VCALENDAR
VERSION:2.0
PRODID:-//Carine Cats Softball - ECPv5.10.0//NONSGML v1.0//EN
CALSCALE:GREGORIAN
METHOD:PUBLISH
X-WR-CALNAME:Carine Cats Softball
X-ORIGINAL-URL:https://softball.carinecats.com.au
X-WR-CALDESC:Events for Carine Cats Softball
BEGIN:VTIMEZONE
TZID:Asia/Shanghai
BEGIN:STANDARD
TZOFFSETFROM:+0800
TZOFFSETTO:+0800
TZNAME:CST
DTSTART:20210101T000000
END:STANDARD
END:VTIMEZONE
BEGIN:VEVENT
DTSTART;VALUE=DATE:20210316
DTEND;VALUE=DATE:20210317
DTSTAMP:20260424T224302
CREATED:20210208T123431Z
LAST-MODIFIED:20210208T123431Z
UID:659-1615852800-1615939199@softball.carinecats.com.au
SUMMARY:Masters Semi Finals
DESCRIPTION:
URL:https://softball.carinecats.com.au/event/masters-semi-finals/
LOCATION:WA State Softball Headquarters\, Lot 27 Chesterfield Rd\, Mirrabooka\, WA\, 6061\, Australia
END:VEVENT
END:VCALENDAR