BEGIN:VCALENDAR
VERSION:2.0
PRODID:-//Carine Cats Softball - ECPv5.10.0//NONSGML v1.0//EN
CALSCALE:GREGORIAN
METHOD:PUBLISH
X-WR-CALNAME:Carine Cats Softball
X-ORIGINAL-URL:https://softball.carinecats.com.au
X-WR-CALDESC:Events for Carine Cats Softball
BEGIN:VTIMEZONE
TZID:Asia/Shanghai
BEGIN:STANDARD
TZOFFSETFROM:+0800
TZOFFSETTO:+0800
TZNAME:CST
DTSTART:20210101T000000
END:STANDARD
END:VTIMEZONE
BEGIN:VEVENT
DTSTART;TZID=Asia/Shanghai:20210312T170000
DTEND;TZID=Asia/Shanghai:20210313T183000
DTSTAMP:20260425T004440
CREATED:20210208T122654Z
LAST-MODIFIED:20210308T005800Z
UID:647-1615568400-1615660200@softball.carinecats.com.au
SUMMARY:Summer Semi Finals
DESCRIPTION:Time/Date: 5:00PM / Fri Mar 12 2021\n\n\nMirrabooka Diamond 4\n\nCarine Cats U14 B V Morley Eagles Red U14 B \n\n\nTime/Date: 1:00PM / Sat Mar 13 2021\n\n\n\n\nMirrabooka Diamond 1\n\nCarine Cats Div 1 V Vikings Div 1 \n\n\nTime/Date: 3:00PM / Sat Mar 13 2021\n\n\nMirrabooka Diamond 4\n\n\n\nWoodland Wolves Div 4 V Carine Cats Div 4 \n\n\n\n\n\n\n\n\nTime/Date: 3:00PM / Sat Mar 13 2021\n\n\nMirrabooka Diamond 3\n\n\n\nJaguars Div 6 V Carine Cats Div 6 \nTime/Date: 5:00PM / Sat Mar 13 2021\n\n\nMirrabooka Diamond 1\n\n\n\n\n\n\n\n\n\n\n\nCarine Cats Div 2 V Jaguars Div 2 \n\n\n\n\nTime/Date: 5:00PM / Sat Mar 13 2021\n\n\nMirrabooka Diamond 2\n\n\n\n\n\n\n\nDemons Div 3 V Carine Cats Div 3 \n\n\n\n\n\n\n\n\n\n\n\n\n\n\n\n\n  \n\n\n\n 
URL:https://softball.carinecats.com.au/event/semi-final-1/
LOCATION:WA State Softball Headquarters\, Lot 27 Chesterfield Rd\, Mirrabooka\, WA\, 6061\, Australia
END:VEVENT
END:VCALENDAR