BEGIN:VCALENDAR
VERSION:2.0
PRODID:-//Carine Cats Softball - ECPv5.10.0//NONSGML v1.0//EN
CALSCALE:GREGORIAN
METHOD:PUBLISH
X-WR-CALNAME:Carine Cats Softball
X-ORIGINAL-URL:https://softball.carinecats.com.au
X-WR-CALDESC:Events for Carine Cats Softball
BEGIN:VTIMEZONE
TZID:Asia/Shanghai
BEGIN:STANDARD
TZOFFSETFROM:+0800
TZOFFSETTO:+0800
TZNAME:CST
DTSTART:20190101T000000
END:STANDARD
END:VTIMEZONE
BEGIN:VEVENT
DTSTART;TZID=Asia/Shanghai:20190817T113000
DTEND;TZID=Asia/Shanghai:20190817T123000
DTSTAMP:20260425T033947
CREATED:20190807T114318Z
LAST-MODIFIED:20190807T115149Z
UID:509-1566041400-1566045000@softball.carinecats.com.au
SUMMARY:Softball Preseason Training - Juniors
DESCRIPTION:Pre-season training and grading is COMPULSORY for Juniors and dates are as follows: \nAs Winter Softball play games at Birralee on Sundays the following dates have been set aside for pre-season training.  Team Nominations for the summer season are to be lodged by early September 2019. Additional training sessions will be advised later. \n JUNIORS:  For U14’s\, U16’s and U18 players – 3 sessions on Saturday 17\, 24 and 31 August 2019 from 11.30am to 12.300pm at Birralee Upper Oval (cnr Beatrice Street and Shaw Road\, Innaloo).  Extra sessions if required will be advised at a later date and will depend on ground availability. \nIf you are unable to attend please advise Registrar\, Cheryl Poustie\, 0412 883 194\, 9447 4914 or Kerry Rispoli on 9448 4662\, 0408 484 662. \nPlease wear appropriate sportswear (especially if cold and wet) and bring a water bottle\, hat\, jacket and your GLOVE. \n Any grading requests are to be in writing to Softball registrar softballregistrar@carinecats.com.au and will be referred to the Grading Committee for consideration and will be dependent on individual circumstances.
URL:https://softball.carinecats.com.au/event/softball-preseason-training-juniors/
LOCATION:Birralee Reserve\, Innaloo WA\, Corner of Shaw Road & Beatrice Street\, Innaloo\, WA\, 6018\, Australia
END:VEVENT
END:VCALENDAR