BEGIN:VCALENDAR
VERSION:2.0
PRODID:-//Carine Cats Softball - ECPv5.10.0//NONSGML v1.0//EN
CALSCALE:GREGORIAN
METHOD:PUBLISH
X-WR-CALNAME:Carine Cats Softball
X-ORIGINAL-URL:https://softball.carinecats.com.au
X-WR-CALDESC:Events for Carine Cats Softball
BEGIN:VTIMEZONE
TZID:Asia/Shanghai
BEGIN:STANDARD
TZOFFSETFROM:+0800
TZOFFSETTO:+0800
TZNAME:CST
DTSTART:20220101T000000
END:STANDARD
END:VTIMEZONE
BEGIN:VEVENT
DTSTART;VALUE=DATE:20221007
DTEND;VALUE=DATE:20221012
DTSTAMP:20260425T012554
CREATED:20220925T122355Z
LAST-MODIFIED:20220930T082938Z
UID:964-1665100800-1665532799@softball.carinecats.com.au
SUMMARY:PSL Softball - Opening Round
DESCRIPTION:Women - PSL\nSaturday afternoons\, with some Wednesday and Friday nights\n\n\n	\n	\n\n		\n							\n					Women's Division 1				\n			\n							\n					Carine Cats				\n					\n\n		\n	\n		\n			\n			No play this week		\n	\n\n\n	\n\n	\n\n	\n	\n\n		\n							\n					Women's Division 2				\n			\n							\n					Carine Cats				\n					\n\n		\n	\n		\n			\n			Div 2 Fixtures		\n	\n\n\n	\n\n	\n\n	\n	\n\n		\n							\n					Women's Division 3				\n			\n							\n					Carine Cats				\n					\n\n		\n	\n		\n			\n			Div 3 Fixtures		\n	\n\n\n	\n\n	\n\n	\n	\n\n		\n							\n					Women's Division 4				\n			\n							\n					Carine Cats				\n					\n\n		\n	\n		\n			\n			Div 4 Fixtures		\n	\n\n\n	\n\n	\n\n	\n	\n\n		\n							\n					Women's Division 5				\n			\n							\n					Carine Cats				\n					\n\n		\n	\n		\n			\n			Div 5 Fixtures		\n	\n\n\n	\n\n	\n\n	\n	\n\n		\n							\n					Women's Division 6				\n			\n							\n					Carine Cats				\n					\n\n		\n	\n		\n			\n			Cats Fixtures		\n	\n\n\n	\n\n	\n\n	\n	\n\n		\n							\n					Women's Division 6				\n			\n							\n					Carine Legends				\n					\n\n		\n	\n		\n			\n			Legends Fixtures		\n	\n\n\n	\n\n	\n\n\n\n		\n	\n\n\n\n	Vets/Masters - PSL\nPlaying on Tuesday evenings\n\n\n	\n	\n\n		\n							\n					Vets Division 2				\n			\n							\n					Carine Cats Blue				\n					\n\n		\n	\n		\n			\n			Blue Fixtures		\n	\n\n\n	\n\n	\n\n	\n	\n\n		\n							\n					Vets Division 2				\n			\n							\n					Carine Cats Black				\n					\n\n		\n	\n		\n			\n			Black Fixtures
URL:https://softball.carinecats.com.au/event/summer-softball-1/
LOCATION:Mirrabooka Softball Complex
ATTACH;FMTTYPE=image/jpeg:https://softball.carinecats.com.au/wp-content/uploads/sites/2/2022/09/Summer-Comp.jpg
END:VEVENT
END:VCALENDAR